BEGIN:VCALENDAR
PRODID:-//Microsoft Corporation//Outlook 16.0 MIMEDIR//EN
VERSION:2.0
METHOD:REQUEST
X-MS-OLK-FORCEINSPECTOROPEN:TRUE
BEGIN:VTIMEZONE
TZID:W. Europe Standard Time
BEGIN:STANDARD
DTSTART:16011028T030000
RRULE:FREQ=YEARLY;BYDAY=-1SU;BYMONTH=10
TZOFFSETFROM:+0200
TZOFFSETTO:+0100
END:STANDARD
BEGIN:DAYLIGHT
DTSTART:16010325T020000
RRULE:FREQ=YEARLY;BYDAY=-1SU;BYMONTH=3
TZOFFSETFROM:+0100
TZOFFSETTO:+0200
END:DAYLIGHT
END:VTIMEZONE
BEGIN:VEVENT
ATTENDEE;CN="Alexander Binz";RSVP=TRUE:mailto:ab@circleeleven.com
ATTENDEE;CN="Thorsten Boll";RSVP=TRUE:mailto:tb@circleeleven.com
ATTENDEE;CN="Ramona Golz";RSVP=TRUE:mailto:rg@circleeleven.com
ATTENDEE;CN="Noah Birkholz";RSVP=TRUE:mailto:nb@circleeleven.com
CLASS:PUBLIC
CREATED:20260225T083832Z
DESCRIPTION:Zuständig für Organisation und Mitorganisation: Wenn Sie Änd
	erungen an Ihrem Ereignis vornehmen\, bitte verwenden Sie Teams. <https://
	teams.microsoft.com/l/virtualevent/a4c1762d-f11d-4099-ae38-9fec992d4932@89
	9a9083-55bd-4bf3-9e17-0e43392ee151>  	\n\nWebinar AS I: CMP II / Apogem VI
	I\n\n\nSie wurden eingeladen zu: \n\n\nWebinar AS I: CMP II / Apogem VII\n
	Do\, 5. März 2026 09:00 - 10:00 (UTC+01:00) Amsterdam\, Berlin\, Bern\, R
	om\, Stockholm\, Wien\n\n\nWir freuen uns darauf\, dass Sie am Ereignis te
	ilnehmen!\n\n\n___________________________________________________________
	_____________________\nMicrosoft Teams-Besprechung \nTeilnehmen: https://t
	eams.microsoft.com/meet/34611534159672?p=qDzq8qBwpoXMyJepU2 \nBesprechungs
	-ID: 346 115 341 596 72 \nPasscode: yb7qi3k8 \n___________________________
	_____\n\nBenötigen Sie Hilfe? <https://aka.ms/JoinTeamsMeeting?omkt=de-DE
	>  | Systemreferenz <https://teams.microsoft.com/l/meetup-join/19%3ameetin
	g_ZmNlNGE3MzYtNzFiYy00Y2Y5LWFhYjAtODhlZGQ4MWNjMGQx%40thread.v2/0?context=%
	7b%22Tid%22%3a%22899a9083-55bd-4bf3-9e17-0e43392ee151%22%2c%22Oid%22%3a%22
	3c4a8711-d61f-484f-b7d5-37595113a3df%22%7d>  \nFür Organisatoren: Besprec
	hungsoptionen <https://teams.microsoft.com/meetingOptions/?organizerId=3c4
	a8711-d61f-484f-b7d5-37595113a3df&tenantId=899a9083-55bd-4bf3-9e17-0e43392
	ee151&threadId=19_meeting_ZmNlNGE3MzYtNzFiYy00Y2Y5LWFhYjAtODhlZGQ4MWNjMGQx
	@thread.v2&messageId=0&language=de-DE>  \n________________________________
	________________________________________________\n\n\nCircle Eleven GmbH \
	n\n\n\nDieses Ereignis wird von Microsoft Teams unter der Leitung des Besp
	rechungsorganisators unterstützt. Die Datenverarbeitung\, die zu diesem E
	reignis erfolgt\, unterliegt den Bedingungen des Besprechungsorganisators.
	 Microsoft Datenschutzrichtlinie <https://privacy.microsoft.com/privacysta
	tement> \n
DTEND;TZID="W. Europe Standard Time":20260305T100000
DTSTAMP:20260225T083832Z
DTSTART;TZID="W. Europe Standard Time":20260305T090000
LAST-MODIFIED:20260225T083832Z
LOCATION:Microsoft Teams-Besprechung
ORGANIZER;CN="Kevin Gruber":mailto:kg@circleeleven.com
PRIORITY:5
SEQUENCE:0
SUMMARY;LANGUAGE=en-us:Webinar AS I: CMP II / Apogem VII
TRANSP:OPAQUE
UID:040000008200E00074C5B7101A82E008000000006FBBB71E32A6DC01000000000000000
	010000000D82920ABB936BF4A8647452B761CAB32
X-ALT-DESC;FMTTYPE=text/html:<style type="text/css">\n\n    @media screen a
	nd (-ms-high-contrast: active)\n	{\n        a \n		{\n            color: #f
	fff01 !important\;\n        }\n    }\n\n	.x_responsiveTableContainer\n	{\n
	        background-color: #FAFAFA\;\n        color: #242424 !important\;\n
	        font-family: 'Segoe UI WestEuropean'\, 'Segoe UI'\, 'Helvetica Neu
	e'\, Helvetica\, Arial\, sans-serif !important\;\n    }\n\n	.x_firstRowInv
	ite\n	{\n		background-color: #EBEBEB !important\;\n	}\n\n	[data-ogsc] .x_r
	esponsiveTableContainer \n	{\n		color: #FFF !important\;\n	}\n\n	[data-ogs
	b] .x_responsiveTableContainer \n	{\n		background-color: #242424 !importan
	t\;\n	}\n\n	[data-ogsc] .x_firstRowInvite \n	{\n		background-color: #14141
	4 !important\;\n	}\n		\n</style>\n\n<meta content="width=device-width\, in
	itial-scale=1.0">\n\n<table class="x_responsiveTableContainer" border="0" 
	cellspacing="0" cellpadding="10" style="max-width: 600px\; font-size: 14px
	\; font-weight: 400\;">\n	<tr>\n		<td class="x_firstRowInvite" style="padd
	ing-left: 30px !important\;">\n			<small style="font-weight: 400\; font-si
	ze: 12px\;"><i><b style="font-weight: 700\;">Zuständig für Organisation 
	und Mitorganisation:</b><span> Wenn Sie Änderungen an Ihrem Ereignis vorn
	ehmen\, <a href="https://teams.microsoft.com/l/virtualevent/a4c1762d-f11d-
	4099-ae38-9fec992d4932@899a9083-55bd-4bf3-9e17-0e43392ee151" style="color:
	 #5B5FC7\;">bitte verwenden Sie Teams.</a></span></i></small>\n		</td>\n	<
	/tr>\n	<tr>\n		<td style="padding-left:30px !important\;">\n			<h2 style="
	font-size:24px !important\;">Webinar AS I: CMP II / Apogem VII</h2>\n			<p
	>\n				Sie wurden eingeladen zu:\n			</p>\n			<br>\n\n			<p></p>\n			<div>
	Webinar AS I: CMP II / Apogem VII</div>\n			<div></div>\n			<div>Do\, 5. M
	ärz 2026 09:00 - 10:00 (UTC+01:00) Amsterdam\, Berlin\, Bern\, Rom\, Stoc
	kholm\, Wien</div>\n			<br>\n\n			<p>Wir freuen uns darauf\, dass Sie am E
	reignis teilnehmen!</p>\n		</td>\n	</tr>\n	<tr>\n		<td style="padding-left
	:30px !important\;">\n			<div><br><div style="max-width: 1024px\; color: #
	242424\; font-family:'Segoe UI'\,'Helvetica Neue'\,Helvetica\,Arial\,sans-
	serif" class="me-email-text" lang="de-DE">\n  <div style="margin-bottom:24
	px\;overflow:hidden\;white-space:nowrap\;" aria-hidden="true">____________
	____________________________________________________________________</div>
	\n\n  <div style="margin-bottom: 12px\;">\n    <span class="me-email-text"
	 style="font-size: 20px\; color: #242424\; font-weight: 600">Microsoft Tea
	ms-Besprechung</span>\n  </div>\n\n  <div style="margin-bottom: 6px\; over
	flow-wrap: break-word\;">\n    <span class="me-email-text" style="font-siz
	e: 20px\; color: #242424\; font-weight: 600">Teilnehmen: </span>\n    <a i
	d="meet_invite_block.action.join_link" title="Meeting join" aria-label="Me
	eting join" class="me-email-link" style="font-size: 20px\; text-decoration
	: underline\; color: #5B5FC7\;" href="https://teams.microsoft.com/meet/346
	11534159672?p=qDzq8qBwpoXMyJepU2">https://teams.microsoft.com/meet/3461153
	4159672?p=qDzq8qBwpoXMyJepU2</a>\n  </div>\n\n  <div style="margin-bottom:
	 6px\;">\n    <span class="me-email-text-secondary" style="font-size: 14px
	\; color: #616161\;">Besprechungs-ID: </span>\n    <span class="me-email-t
	ext" style="font-size: 14px\; color: #242424\;">346 115 341 596 72</span>\
	n  </div>\n\n  <div style="margin-bottom: 32px\;">\n    <span class="me-em
	ail-text-secondary" style="font-size: 14px\; color: #616161\;">Passcode: <
	/span>\n    <span class="me-email-text" style="font-size: 14px\; color: #2
	42424\;">yb7qi3k8</span>\n  </div>\n\n  <div style="margin-bottom: 12px\; 
	max-width: 1024px\;">\n    <hr style="border: 0\; background: #616161\; he
	ight: 1px\;"><!-- </hr> -->\n  </div>\n\n  <div style="margin-bottom: 24px
	\;">\n    <a id="meet_invite_block.action.help" class="me-email-link" styl
	e="font-size:14px\; text-decoration:underline\; color: #5B5FC7\;" href="ht
	tps://aka.ms/JoinTeamsMeeting?omkt=de-DE">Benötigen&nbsp\;Sie&nbsp\;Hilfe
	?</a>\n    <span style="color: #616161">|</span>\n     <a id="meet_invite_
	block.action.join_link_compatibility" href="https://teams.microsoft.com/l/
	meetup-join/19%3ameeting_ZmNlNGE3MzYtNzFiYy00Y2Y5LWFhYjAtODhlZGQ4MWNjMGQx%
	40thread.v2/0?context=%7b%22Tid%22%3a%22899a9083-55bd-4bf3-9e17-0e43392ee1
	51%22%2c%22Oid%22%3a%223c4a8711-d61f-484f-b7d5-37595113a3df%22%7d" class="
	me-email-link" style="font-size:14px\; text-decoration:underline\; color: 
	#5B5FC7\;">Systemreferenz</a>\n  </div>\n\n\n\n\n\n  <div>\n    <span clas
	s="me-email-text-secondary" style="font-size: 14px\; color: #616161\;">Fü
	r Organisatoren: </span>\n    <a id="meet_invite_block.action.organizer_me
	et_options" class="me-email-link" style="font-size: 14px\; text-decoration
	: underline\; color: #5B5FC7\;" target="_blank" href="https://teams.micros
	oft.com/meetingOptions/?organizerId=3c4a8711-d61f-484f-b7d5-37595113a3df&a
	mp\;tenantId=899a9083-55bd-4bf3-9e17-0e43392ee151&amp\;threadId=19_meeting
	_ZmNlNGE3MzYtNzFiYy00Y2Y5LWFhYjAtODhlZGQ4MWNjMGQx@thread.v2&amp\;messageId
	=0&amp\;language=de-DE" rel="noreferrer noopener">Besprechungsoptionen</a>
	\n  </div>\n\n  <div style="margin-top: 24px\; margin-bottom: 6px\;">\n   
	 \n    \n  </div>\n\n  <div style="margin-bottom: 24px\;">\n    \n  </div>
	\n\n\n\n  <div style="margin-bottom:24px\;overflow:hidden\;white-space:now
	rap\;" aria-hidden="true">________________________________________________
	________________________________</div>\n\n</div></div><br><p style="font-w
	eight: 600\;">Circle Eleven GmbH </p><br><div><br>Dieses Ereignis wird von
	 Microsoft Teams unter der Leitung des Besprechungsorganisators unterstüt
	zt. Die Datenverarbeitung\, die zu diesem Ereignis erfolgt\, unterliegt de
	n Bedingungen des Besprechungsorganisators. <a href="https://privacy.micro
	soft.com/privacystatement" style="color: #5B5FC7\;">Microsoft Datenschutzr
	ichtlinie</a></div>\n		</td>\n	</tr>\n</table>
X-MICROSOFT-CDO-BUSYSTATUS:BUSY
X-MICROSOFT-CDO-IMPORTANCE:1
X-MS-OLK-APPTLASTSEQUENCE:0
X-MS-OLK-APPTSEQTIME:20260225T083832Z
BEGIN:VALARM
TRIGGER:-PT15M
ACTION:DISPLAY
DESCRIPTION:Reminder
END:VALARM
END:VEVENT
END:VCALENDAR
